BEGIN:VCALENDAR
VERSION:2.0
PRODID:-//EKAM Yoga Lab - ECPv5.8.1//NONSGML v1.0//EN
CALSCALE:GREGORIAN
METHOD:PUBLISH
X-WR-CALNAME:EKAM Yoga Lab
X-ORIGINAL-URL:http://www.ekamyogalab.it
X-WR-CALDESC:Eventi per EKAM Yoga Lab
BEGIN:VTIMEZONE
TZID:UTC
BEGIN:STANDARD
TZOFFSETFROM:+0000
TZOFFSETTO:+0000
TZNAME:UTC
DTSTART:20260101T000000
END:STANDARD
END:VTIMEZONE
BEGIN:VEVENT
DTSTART;TZID=UTC:20260424T080000
DTEND;TZID=UTC:20260424T170000
DTSTAMP:20260424T124728
CREATED:20260105T103448Z
LAST-MODIFIED:20260105T103448Z
UID:19215-1777017600-1777050000@www.ekamyogalab.it
SUMMARY:BAGNO DI GONG
DESCRIPTION:Le vibrazioni sonore di Gong\, Campane Tibetane e strumenti ancestrali risuonano in ogni cellula del nostro corpo\, portandolo in uno stato di profondo rilassamento\, allentando le tensioni e lo stress\, ripristinando un nuovo stato energetico. \nImmergersi nelle vibrazioni sonore di un bagno armonico è un modo per raggiungere strati più profondi del nostro essere\, di mettersi in ascolto\, aprirsi e accogliere il cambiamento. \nPer informazioni e prenotazioni contattare il numero 339 7250843
URL:http://www.ekamyogalab.it/evento/bagno-di-gong-9/
LOCATION:Ekam Yoga Lab\, Via del Tempio 1/A\, Roma\, Lazio\, 00186\, Italia
CATEGORIES:Ekam
ATTACH;FMTTYPE=image/png:http://www.ekamyogalab.it/wp-content/uploads/2026/01/GONG-BATH-5.png
ORGANIZER;CN="Elena":MAILTO:info@ekamyogalab.it
END:VEVENT
END:VCALENDAR