BEGIN:VCALENDAR
VERSION:2.0
PRODID:-//EKAM Yoga Lab - ECPv5.8.1//NONSGML v1.0//EN
CALSCALE:GREGORIAN
METHOD:PUBLISH
X-WR-CALNAME:EKAM Yoga Lab
X-ORIGINAL-URL:http://www.ekamyogalab.it
X-WR-CALDESC:Eventi per EKAM Yoga Lab
BEGIN:VTIMEZONE
TZID:UTC
BEGIN:STANDARD
TZOFFSETFROM:+0000
TZOFFSETTO:+0000
TZNAME:UTC
DTSTART:20260101T000000
END:STANDARD
END:VTIMEZONE
BEGIN:VEVENT
DTSTART;TZID=UTC:20260522T150000
DTEND;TZID=UTC:20260524T150000
DTSTAMP:20260424T124114
CREATED:20260105T112433Z
LAST-MODIFIED:20260105T112604Z
UID:19225-1779462000-1779634800@www.ekamyogalab.it
SUMMARY:EKAM YOGA RETREAT - TRIDEVI: la forza del divino femminile
DESCRIPTION:Ekam Art Yoga Lab propone un fine settimana di yoga e benessere presso l’agriturismo Perucci di Sopra. Una rigenerante immersione nei nostri sensi\, nelle pratiche di Yoga per esplorare  le molteplici sfumature che ci caratterizzano\, ritrovandole nel rapporto con noi stessi\, con la natura e tutto ciò che ci circonda e che ci porta in uno stato di quiete e leggerezza. \n“Tridevi: la forza del divino femminile” \nUn viaggio nell’affascinante mondo della cosmologia induista e negli aspetti della triplice immagine del divino. \nPROGRAMMA: \nVenerdi 22 maggio \n15:00  Arrivo/Check in \n17.00 – 19.00 “Introduzione alla Cosmologia Induista” – teoria e pratica di vinyasa \n20:00 Cena \nSabato 23 maggio \n08:00 –9.30 Colazione \n10:00 –12.00 “Saraswati: la Dea della conoscenza ”- teoria e pratica di vinyasa \n13.00 Pranzo \n17.00 – 19.00 “Laksmi: la Dea della prosperità” – teoria e pratica di vinyasa \n20.00 Cena \nDomenica 24 maggio \n08:00 –9.30 Colazione \n10:00 –12.00 “Parvati: la Dea del mondo“–teoria e pratica di vinyasa \n13:00  Pranzo \n15:00 Check out \nL’offerta include \n\npernottamento di due notti dal venerdi alla domenica\npensione completa con bevande incluse\ncamere doppie o triple\nlezioni di Yoga\nutilizzo piscina\n\nPer informazioni e prenotazioni contattare il numero 339 7250843 \n 
URL:http://www.ekamyogalab.it/evento/ekam-yoga-retreat-tridevi-la-forza-del-divino-femminile/
LOCATION:Agriturismo Perucci di Sopra
CATEGORIES:Ekam
ATTACH;FMTTYPE=image/png:http://www.ekamyogalab.it/wp-content/uploads/2026/01/Instagram-1.png
ORGANIZER;CN="Elena":MAILTO:info@ekamyogalab.it
END:VEVENT
END:VCALENDAR